BEGIN:VCALENDAR
VERSION:2.0
PRODID:-//Northwest Watercolor Society - ECPv6.15.20//NONSGML v1.0//EN
CALSCALE:GREGORIAN
METHOD:PUBLISH
X-ORIGINAL-URL:https://www.nwws.org
X-WR-CALDESC:Events for Northwest Watercolor Society
REFRESH-INTERVAL;VALUE=DURATION:PT1H
X-Robots-Tag:noindex
X-PUBLISHED-TTL:PT1H
BEGIN:VTIMEZONE
TZID:America/Los_Angeles
BEGIN:DAYLIGHT
TZOFFSETFROM:-0800
TZOFFSETTO:-0700
TZNAME:PDT
DTSTART:20230312T100000
END:DAYLIGHT
BEGIN:STANDARD
TZOFFSETFROM:-0700
TZOFFSETTO:-0800
TZNAME:PST
DTSTART:20231105T090000
END:STANDARD
BEGIN:DAYLIGHT
TZOFFSETFROM:-0800
TZOFFSETTO:-0700
TZNAME:PDT
DTSTART:20240310T100000
END:DAYLIGHT
BEGIN:STANDARD
TZOFFSETFROM:-0700
TZOFFSETTO:-0800
TZNAME:PST
DTSTART:20241103T090000
END:STANDARD
BEGIN:DAYLIGHT
TZOFFSETFROM:-0800
TZOFFSETTO:-0700
TZNAME:PDT
DTSTART:20250309T100000
END:DAYLIGHT
BEGIN:STANDARD
TZOFFSETFROM:-0700
TZOFFSETTO:-0800
TZNAME:PST
DTSTART:20251102T090000
END:STANDARD
END:VTIMEZONE
BEGIN:VEVENT
DTSTART;TZID=America/Los_Angeles:20240610T130000
DTEND;TZID=America/Los_Angeles:20240610T143000
DTSTAMP:20260421T211235
CREATED:20240501T023332Z
LAST-MODIFIED:20240501T223542Z
UID:10000063-1718024400-1718029800@www.nwws.org
SUMMARY:AZR- JUNE 10\, 2024: LIANA BENNETT: FOCUS: Putting Together the Elements and Principles of Design
DESCRIPTION:START TIME: 1:00 (Pacific). Virtual doors open 12:45. \nPainting submissions due date: May 23\, 2024. \nAs we close out the successful “Principles of Design” series\, Liana will bring all that has been covered over the last months into the conversation. She will review paintings in a comprehensive way\, considering the interplay and balance of all the design principles within the painting and what might be adjusted for greater success. Painting submissions are due by May 23\, 2024. \nLiana paints in acrylics\, oils and mixed media. The figure is her first love and will always be the subject she is pulled toward. Her intense connection to her subject matter is apparent\, including her explorations in abstraction. Deservedly\, she has acquired the hallmarks of success such as numerous awards\, accolades as an instructor\, having her art acquired by numerous collectors\, and is the owner of “Seattle Arts Umbrella” Art Center. \nPlease join us before the AZR summer break and learn from this remarkable artist. \nCLICK: FOCUS: PUTTING TOGETHER THE ELEMENTS OF DESIGN \nIf you have questions about the event\, contact: azr@nwws.org
URL:https://www.nwws.org/event/azr-june-10-2024-liana-bennett/
LOCATION:Zoom
CATEGORIES:Artist Zoom Room
ATTACH;FMTTYPE=image/jpeg:https://nwws-cdn.b-cdn.net/wp-content/uploads/2024/04/liana-bennett.jpg
ORGANIZER;CN="NWWS":MAILTO:info@nwws.org
END:VEVENT
BEGIN:VEVENT
DTSTART;TZID=America/Los_Angeles:20240625T190000
DTEND;TZID=America/Los_Angeles:20240625T210000
DTSTAMP:20260421T211235
CREATED:20240325T225250Z
LAST-MODIFIED:20240327T232936Z
UID:10000062-1719342000-1719349200@www.nwws.org
SUMMARY:JUNE 2024 GENERAL MEETING DEMONSTRATION WITH YONG HONG ZHONG
DESCRIPTION:JUNE 25\, 2024 – We are excited to bring the energy and enthusiasm of Yong Hong Zhong to NWWS! \nMEETING START TIME: 7:00 (Pacific time) \nJoin us as Yong Hong Zhong demonstrates his beautiful world of landscapes painted seemingly effortlessly. His paintings are fresh and alive with the crisp\, practiced brushwork of a certain master. \nBorn in Canton\, China \, he immigrated to the United States when he was twelve years old.  Always with a strong interest in drawing\, he attended La Guardia High School\, a prestigious school for music and arts in New York City\, followed by the Pratt Institute. While at Pratt\, he was selected by Disney Animation Studios for an internship. This began his many years working as an animator and storyboard artist on many featured films. These experiences influence the fine artist he is today. \nThe early California impressionists are the greatest influence on his work. His work ranges from landscape to portrait to still life.\nOregon’s beautiful landscapes and family oriented communities brought him to the northwest. He resides in Portland\, OR with his wife and two sons.
URL:https://www.nwws.org/event/june-2024-general-meeting-demonstration-with-yong-hong-zhong/
LOCATION:Zoom
CATEGORIES:General Meeting
ATTACH;FMTTYPE=image/jpeg:https://nwws-cdn.b-cdn.net/wp-content/uploads/2024/03/yong-hong-zhong.jpg
ORGANIZER;CN="NWWS":MAILTO:info@nwws.org
END:VEVENT
END:VCALENDAR