BEGIN:VCALENDAR
VERSION:2.0
PRODID:-//Northwest Watercolor Society - ECPv6.15.20//NONSGML v1.0//EN
CALSCALE:GREGORIAN
METHOD:PUBLISH
X-WR-CALNAME:Northwest Watercolor Society
X-ORIGINAL-URL:https://www.nwws.org
X-WR-CALDESC:Events for Northwest Watercolor Society
REFRESH-INTERVAL;VALUE=DURATION:PT1H
X-Robots-Tag:noindex
X-PUBLISHED-TTL:PT1H
BEGIN:VTIMEZONE
TZID:America/Los_Angeles
BEGIN:DAYLIGHT
TZOFFSETFROM:-0800
TZOFFSETTO:-0700
TZNAME:PDT
DTSTART:20220313T100000
END:DAYLIGHT
BEGIN:STANDARD
TZOFFSETFROM:-0700
TZOFFSETTO:-0800
TZNAME:PST
DTSTART:20221106T090000
END:STANDARD
BEGIN:DAYLIGHT
TZOFFSETFROM:-0800
TZOFFSETTO:-0700
TZNAME:PDT
DTSTART:20230312T100000
END:DAYLIGHT
BEGIN:STANDARD
TZOFFSETFROM:-0700
TZOFFSETTO:-0800
TZNAME:PST
DTSTART:20231105T090000
END:STANDARD
BEGIN:DAYLIGHT
TZOFFSETFROM:-0800
TZOFFSETTO:-0700
TZNAME:PDT
DTSTART:20240310T100000
END:DAYLIGHT
BEGIN:STANDARD
TZOFFSETFROM:-0700
TZOFFSETTO:-0800
TZNAME:PST
DTSTART:20241103T090000
END:STANDARD
END:VTIMEZONE
BEGIN:VEVENT
DTSTART;VALUE=DATE:20231014
DTEND;VALUE=DATE:20231113
DTSTAMP:20260419T223215
CREATED:20230714T171552Z
LAST-MODIFIED:20230718T234415Z
UID:10000033-1697241600-1699833599@www.nwws.org
SUMMARY:OPEN EXHIBITION VIEWING
DESCRIPTION:Gallery Hours: Open Friday\, Sat.\, and Sun.\, 11:00 – 5:00.\, or Mon. – Thurs. by appt. 360-387-2759\, or email: matzke@camano.net \nThe 2023 Open International Exhibition will be shown on Camano Island\, WA\, at the wonderful Matzke Fine Art Gallery and Sculpture Garden. Scenic Camano Island is about an hour north of Seattle and and an easy drive. \nNWWS is proud to be a part of gallery owner Karla Matzke’s committment to representing the best and brightest talent from the Pacific Northwest\, the U.S.\, and Japan. The gallery hosts many highly regarded exhibitions each year as it strives to connect artists and collectors through special events\, productions\, and art education programs. \nLearn more about  Matzke Fine Art Gallery and Sculpture Garden
URL:https://www.nwws.org/event/open-exhibition/
LOCATION:Matzke Fine Art Gallery & Sculpture Park\, 2345 Blanche Way\, Camano Island\, WA\, 98282\, United States
CATEGORIES:International Open
ATTACH;FMTTYPE=image/jpeg:https://nwws-cdn.b-cdn.net/wp-content/uploads/2023/07/Artboard-Oopen-Exhibition.jpg
ORGANIZER;CN="NWWS":MAILTO:info@nwws.org
END:VEVENT
BEGIN:VEVENT
DTSTART;TZID=America/Los_Angeles:20231111T100000
DTEND;TZID=America/Los_Angeles:20231111T130000
DTSTAMP:20260419T223215
CREATED:20230807T035914Z
LAST-MODIFIED:20230912T211003Z
UID:10000038-1699696800-1699707600@www.nwws.org
SUMMARY:GEORGE POLITIS WORKSHOP
DESCRIPTION:The second “Workshops International” workshop welcomes the textural world of George Politis (Greece). \nREGISTRATION BEGINS SEPTEMBER 12\, 2023. \nGeorge is a known master of materials texture and composition. In this 3 hour\, information filled workshop\, he will share how he is inspired by subject matter yet confidently adjusts it to create a more successful and impactful composition. His decisions about what to leave in and what to remove\, colors\, textures\, and other modifications are key to achieving his tailored\, painted vision inspired by the reference material. \n“Doors in China” is a powerful 4-time international award winning painting and will be the basis for the workshop. Click the first image\, below\, to see this wonderful painting. \nThe emphasis of the workshop:\n– Painting technique for textures such as metal\, wood\, paper\, and more.\n– Working with values\n– The power of contrast\n– Color selection\n– Mixing color directly on the paper \nLearn how George’s uses his important “symbols of color” and “chessboard contrast model” as he works. \nAll attendees may access the workshop recording for 30 days after the workshop.
URL:https://www.nwws.org/event/george-politis-workshop-nov-2023/
LOCATION:Zoom
CATEGORIES:Workshop International
ATTACH;FMTTYPE=image/jpeg:https://nwws-cdn.b-cdn.net/wp-content/uploads/2023/08/george-politis.jpg
END:VEVENT
BEGIN:VEVENT
DTSTART;TZID=America/Los_Angeles:20231113T130000
DTEND;TZID=America/Los_Angeles:20231113T143000
DTSTAMP:20260419T223215
CREATED:20230827T192003Z
LAST-MODIFIED:20231025T060512Z
UID:10000040-1699880400-1699885800@www.nwws.org
SUMMARY:AZR- Nov. 13\, 2023: ANGELA BANDURKA | FOCUS: DRAWING IS KEY!
DESCRIPTION:START TIME: 1:00 (Pacific). Virtual doors open 12:45. \nPAINTINGS  FOR BANDURKA CRITIQUE DUE DATE: NOV. 2\, 2023 \nSEND PAINTINGS FOR CRITIQUE TO:  azr@nwws.org \nIn the second month of “Essentials: The Elements of Design”\, Angela Bandurka spotlights the importance of drawing with “Focus: Drawing is Key!” Looking at Angela’s work\, you see her drawing skills shine with an understanding of perspective\, accurately capturing form\, and love of detail. Examining her work\, it is clear that her love of drawing is the underpinning of her beautiful work. Learn how the proper\, underlying drawing is worth your focus and is integral to your painting’s success. \nPREPARING FOR THE NOVEMBER EVENT\, by Angela Bandurka: \n“Drawing is not just pencil on paper – it’s also paint on canvas or ink on vellum. Drawing represents marks on any surface with attention to perspective and proportion to create an image. Drawing for a painting is a different beast than what most people think of when the word is used. A completed\, beautifully rendered drawing with shading is a finished piece on its own. Many painters\, including myself\, create a simpler version of a drawing for a painting (and I include the shadows). It becomes my roadmap\, but it’s a design element. \nI’d love to talk with folks who are interested in all forms of drawing and how it could improve their work\, including artists who work in a more abstracted way\, learning to use different marks and elements that are representative of an object in their paintings and artists creating likeness in their portraits or landscapes. \nFor the Nov. AZR event\, submit your paintings or drawings in any stage of completion and we will talk about the challenges you encountered and what might be done to improve it. \nIf you’re someone who’d like the challenge of an assignment\, here’s one to try: find a subject matter you like (portrait\, landscape\, or other) and draw it in a sketchbook using paint or any drawing tools you like and in only one color. It could be a basis for a painting you’re planning. You can add value if you like\, though it’s not necessary. Now\, how would you alter the drawing to make it more interesting? What can you remove or add? Do the marks you make add or detract from the drawing? I request that the drawing is not traced (though graphing is ok!)”
URL:https://www.nwws.org/event/artist-zoom-room-november-2023-angela-bandurka/
LOCATION:Zoom
CATEGORIES:Artist Zoom Room
ATTACH;FMTTYPE=image/jpeg:https://nwws-cdn.b-cdn.net/wp-content/uploads/2023/08/pic_AngelaHoskins_A_lg.jpg
ORGANIZER;CN="NWWS":MAILTO:info@nwws.org
END:VEVENT
END:VCALENDAR